BEGIN:VCALENDAR
VERSION:2.0
PRODID:-//Allmendingen - ECPv6.15.20//NONSGML v1.0//EN
CALSCALE:GREGORIAN
METHOD:PUBLISH
X-WR-CALNAME:Allmendingen
X-ORIGINAL-URL:https://allmendingen.de
X-WR-CALDESC:Veranstaltungen für Allmendingen
REFRESH-INTERVAL;VALUE=DURATION:PT1H
X-Robots-Tag:noindex
X-PUBLISHED-TTL:PT1H
BEGIN:VTIMEZONE
TZID:Europe/Berlin
BEGIN:DAYLIGHT
TZOFFSETFROM:+0100
TZOFFSETTO:+0200
TZNAME:CEST
DTSTART:20250330T010000
END:DAYLIGHT
BEGIN:STANDARD
TZOFFSETFROM:+0200
TZOFFSETTO:+0100
TZNAME:CET
DTSTART:20251026T010000
END:STANDARD
BEGIN:DAYLIGHT
TZOFFSETFROM:+0100
TZOFFSETTO:+0200
TZNAME:CEST
DTSTART:20260329T010000
END:DAYLIGHT
BEGIN:STANDARD
TZOFFSETFROM:+0200
TZOFFSETTO:+0100
TZNAME:CET
DTSTART:20261025T010000
END:STANDARD
BEGIN:DAYLIGHT
TZOFFSETFROM:+0100
TZOFFSETTO:+0200
TZNAME:CEST
DTSTART:20270328T010000
END:DAYLIGHT
BEGIN:STANDARD
TZOFFSETFROM:+0200
TZOFFSETTO:+0100
TZNAME:CET
DTSTART:20271031T010000
END:STANDARD
END:VTIMEZONE
BEGIN:VEVENT
DTSTART;VALUE=DATE:20260516
DTEND;VALUE=DATE:20260517
DTSTAMP:20260423T134347
CREATED:20240117T065534Z
LAST-MODIFIED:20260331T052009Z
UID:22274-1778889600-1778975999@allmendingen.de
SUMMARY:Backtag in Altheim
DESCRIPTION:Für den Backtag bitte Vorbestellung 3 Tage vorher unter:\nbackhaus_backteam.altheim@aol.com oder WhatsApp/SMS an: 0175 64 59 812 \n  \nWeitere Informationen finden Sie unter  altheim-info.de/freizeittipps/einrichtungen/backhaus/\noder hier im Flyer: \n  \n 
URL:https://allmendingen.de/event/backtag-in-altheim-3/
LOCATION:Backhaus Altheim\, Hauptstraße 9\, Altheim\, 89605\, Deutschland
ATTACH;FMTTYPE=image/jpeg:https://allmendingen.de/wp-content/uploads/2023/05/Backhaus-Altheim-2021-scaled.jpg
ORGANIZER;CN="Backhaus-Team":MAILTO:backhaus_backteam.altheim@aol.com
END:VEVENT
BEGIN:VEVENT
DTSTART;TZID=Europe/Berlin:20260521T143000
DTEND;TZID=Europe/Berlin:20260521T193000
DTSTAMP:20260423T134347
CREATED:20211213T144107Z
LAST-MODIFIED:20260107T082614Z
UID:14889-1779373800-1779391800@allmendingen.de
SUMMARY:DRK Blutspende
DESCRIPTION:von 14:30 Uhr bis 19:30 Uhr \n  \nIhr Link zur Terminreservierung beim Blutspendetermin
URL:https://allmendingen.de/event/drk-blutspende/
LOCATION:Turn- und Festhalle Allmendingen\, Marienstraße 16\, Allmendingen\, 89604\, Deutschland
ATTACH;FMTTYPE=image/png:https://allmendingen.de/wp-content/uploads/2021/03/5.-Kurs-78-83-DRK.png
END:VEVENT
BEGIN:VEVENT
DTSTART;VALUE=DATE:20260523
DTEND;VALUE=DATE:20260526
DTSTAMP:20260423T134347
CREATED:20211213T143250Z
LAST-MODIFIED:20260107T082747Z
UID:14885-1779494400-1779753599@allmendingen.de
SUMMARY:Pfingstfest Altheim
DESCRIPTION:
URL:https://allmendingen.de/event/pfingstfest-altheim/
LOCATION:Sportplatz Altheim\, Saure Wiesen\, Altheim\, 89605\, Deutschland
END:VEVENT
BEGIN:VEVENT
DTSTART;VALUE=DATE:20260607
DTEND;VALUE=DATE:20260608
DTSTAMP:20260423T134347
CREATED:20260107T083109Z
LAST-MODIFIED:20260107T084306Z
UID:29708-1780790400-1780876799@allmendingen.de
SUMMARY:Tag des deutschen Schwimmabzeichens
DESCRIPTION:Ausweichtermin 14.06.2026
URL:https://allmendingen.de/event/tag-des-deutschen-schwimmabzeichens-2/
LOCATION:Waldfreibad Allmendingen\, Schwimmbadweg 32\, Allmendingen\, 89604
ORGANIZER;CN="DLRG OG Allmendingen":MAILTO:info@allmendingen.dlrg.de
END:VEVENT
BEGIN:VEVENT
DTSTART;TZID=Europe/Berlin:20260607T133000
DTEND;TZID=Europe/Berlin:20260607T180000
DTSTAMP:20260423T134347
CREATED:20220331T052352Z
LAST-MODIFIED:20260107T071454Z
UID:15828-1780839000-1780855200@allmendingen.de
SUMMARY:Heimatmuseum in Grötzingen
DESCRIPTION:Die Ausstellungen zeigen Historisches zu Haus\, Hof und Gewerbe und dem öffentlichen Leben auf den Lutherischen Bergen. Ein Schwerpunkt liegt in der Dauerausstellung zum Thema Mechanisierung der Landwirtschaft mit dem Motto „vom Haberrechen bis zum Mähdrescher“. Gezeigt werden auch Bilder\, Zeitdokumente\, Maschinen und Geräte vom späten 19. Jahrhundert bis etwa Mitte des 20. Jahrhunderts. \nZu den Öffnungszeiten bietet der Heimatverein auf der Terrasse auch Kaffee und Kuchen und Getränke an. \nGruppenführungen auf Anfrage – auch Führungen zu anderen Terminen – Anfragen richten Sie bitte auf der Kontaktseite der Webseite an den Bergemer Heimatverein.
URL:https://allmendingen.de/event/museum-lager-und-museum-gfriere-in-groetzingen-3/
LOCATION:Heimatmuseum\, Grießtalstraße 6\, Allmendingen\, 89604
ATTACH;FMTTYPE=image/jpeg:https://allmendingen.de/wp-content/uploads/2022/03/IMG_20210720_161028.jpg
END:VEVENT
BEGIN:VEVENT
DTSTART;TZID=Europe/Berlin:20260607T150000
DTEND;TZID=Europe/Berlin:20260607T163000
DTSTAMP:20260423T134347
CREATED:20250401T062559Z
LAST-MODIFIED:20260126T070650Z
UID:28133-1780844400-1780849800@allmendingen.de
SUMMARY:Café DaSein – Gesprächs-und Trauercafé
DESCRIPTION:Das „Café DaSein – Gesprächs-und Trauercafé“ findet in der Regel jeden \nersten Sonntag im Monat von 15:00 Uhr bis 16:30 Uhr \nim Forum50plus\, Jahnstr. 28 in 89155 Erbach statt. (Im UG der Musikschule) \nEingeladen sind alle\, die in Trauer sind\, egal welcher Konfession oder Gemeinde sie angehören. \nAuf Ihr Kommen freuen sich ehrenamtliche Trauerbegleiterinnen der Hospizgruppe Donau-Schmiechtal. Es ist keine vorherige Anmeldung erforderlich. Bei Fragen sind wir unter der Telefonnummer 0172 4218194 oder unter der Mailadresse Hospizgruppe.Donau-Schmiechtal@t-online.de für Sie erreichbar.
URL:https://allmendingen.de/event/cafe-dasein-gespraechs-und-trauercafe-3/
ATTACH;FMTTYPE=image/jpeg:https://allmendingen.de/wp-content/uploads/2021/03/Trauerfall-echt-scaled.jpg
ORGANIZER;CN="Hospizgruppe Donau-Schmiechtal":MAILTO:Hospizgruppe Donau-Schmiechtal@t-online.de
END:VEVENT
BEGIN:VEVENT
DTSTART;VALUE=DATE:20260612
DTEND;VALUE=DATE:20260615
DTSTAMP:20260423T134347
CREATED:20211213T143909Z
LAST-MODIFIED:20260107T083316Z
UID:14887-1781222400-1781481599@allmendingen.de
SUMMARY:Kreiselmusikfest
DESCRIPTION:
URL:https://allmendingen.de/event/125-jaehriges-jubilaeum-mv-allmendingen/
LOCATION:Festplatz Marienstrasse\, Marienstraße 12\, Allmendingen\, 89604\, Deutschland
END:VEVENT
BEGIN:VEVENT
DTSTART;VALUE=DATE:20260613
DTEND;VALUE=DATE:20260614
DTSTAMP:20260423T134347
CREATED:20260107T083515Z
LAST-MODIFIED:20260107T083515Z
UID:29714-1781308800-1781395199@allmendingen.de
SUMMARY:Kinder- und Familien Ralley\, Luth. Berge
DESCRIPTION:
URL:https://allmendingen.de/event/kinder-und-familien-ralley-luth-berge/
END:VEVENT
BEGIN:VEVENT
DTSTART;VALUE=DATE:20260614
DTEND;VALUE=DATE:20260615
DTSTAMP:20260423T134347
CREATED:20221207T084411Z
LAST-MODIFIED:20260107T084230Z
UID:17919-1781395200-1781481599@allmendingen.de
SUMMARY:Sport- und Spielenachmittag
DESCRIPTION:
URL:https://allmendingen.de/event/sport-und-spielenachmittag/
LOCATION:Sportplatz Ennahofen\, Galgenweg 10\, Allmendingen\, 89604\, Deutschland
END:VEVENT
BEGIN:VEVENT
DTSTART;VALUE=DATE:20260614
DTEND;VALUE=DATE:20260615
DTSTAMP:20260423T134347
CREATED:20250108T112113Z
LAST-MODIFIED:20260107T083221Z
UID:27662-1781395200-1781481599@allmendingen.de
SUMMARY:Tag des Deutschen Schwimmabzeichens
DESCRIPTION:Ausweichtermin
URL:https://allmendingen.de/event/tag-des-deutschen-schwimmabzeichens/
LOCATION:Waldfreibad Allmendingen\, Schwimmbadweg 32\, Allmendingen\, 89604
ORGANIZER;CN="DLRG OG Allmendingen":MAILTO:info@allmendingen.dlrg.de
END:VEVENT
BEGIN:VEVENT
DTSTART;VALUE=DATE:20260614
DTEND;VALUE=DATE:20260615
DTSTAMP:20260423T134347
CREATED:20260107T084023Z
LAST-MODIFIED:20260107T084023Z
UID:29716-1781395200-1781481599@allmendingen.de
SUMMARY:Landesfest Sigmaringendorf
DESCRIPTION:
URL:https://allmendingen.de/event/landesfest-sigmaringendorf/
END:VEVENT
BEGIN:VEVENT
DTSTART;VALUE=DATE:20260619
DTEND;VALUE=DATE:20260622
DTSTAMP:20260423T134347
CREATED:20260107T084428Z
LAST-MODIFIED:20260107T084451Z
UID:29720-1781827200-1782086399@allmendingen.de
SUMMARY:Jubiläumsfeier 120 Jahre TSV Allmendingen 1906 e.V.
DESCRIPTION:
URL:https://allmendingen.de/event/jubilaeumsfeier-120-jahre-tsv-allmendingen/
LOCATION:Sportplatz Allmendingen\, Sportplatzweg 1\, Allmendingen\, 89604\, Deutschland
END:VEVENT
BEGIN:VEVENT
DTSTART;VALUE=DATE:20260620
DTEND;VALUE=DATE:20260623
DTSTAMP:20260423T134347
CREATED:20211217T110124Z
LAST-MODIFIED:20260107T084548Z
UID:14946-1781913600-1782172799@allmendingen.de
SUMMARY:Sommerfest BMV Grötzingen
DESCRIPTION:
URL:https://allmendingen.de/event/gartenfest-bmv-groetzingen/
LOCATION:Kommunikationszentrum Farrenstall\, Grießtalstraße 40\, Allmendingen\, 89604\, Deutschland
END:VEVENT
BEGIN:VEVENT
DTSTART;VALUE=DATE:20260627
DTEND;VALUE=DATE:20260628
DTSTAMP:20260423T134347
CREATED:20240117T065359Z
LAST-MODIFIED:20260331T052056Z
UID:22272-1782518400-1782604799@allmendingen.de
SUMMARY:Backtag in Altheim
DESCRIPTION:Für den Backtag bitte Vorbestellung 3 Tage vorher unter:\nbackhaus_backteam.altheim@aol.com oder WhatsApp/SMS an: 0175 64 59 812 \n  \nWeitere Informationen finden Sie unter  altheim-info.de/freizeittipps/einrichtungen/backhaus/\noder hier im Flyer: \n  \n 
URL:https://allmendingen.de/event/backtag-in-altheim-2/
LOCATION:Backhaus Altheim\, Hauptstraße 9\, Altheim\, 89605\, Deutschland
ATTACH;FMTTYPE=image/jpeg:https://allmendingen.de/wp-content/uploads/2023/05/Backhaus-Altheim-2021-scaled.jpg
ORGANIZER;CN="Backhaus-Team":MAILTO:backhaus_backteam.altheim@aol.com
END:VEVENT
BEGIN:VEVENT
DTSTART;VALUE=DATE:20260703
DTEND;VALUE=DATE:20260704
DTSTAMP:20260423T134347
CREATED:20260107T085543Z
LAST-MODIFIED:20260107T085543Z
UID:29731-1783036800-1783123199@allmendingen.de
SUMMARY:Elfmeter-Turnier
DESCRIPTION:
URL:https://allmendingen.de/event/elfmeter-turnier/
LOCATION:Sportplatz Allmendingen\, Sportplatzweg 1\, Allmendingen\, 89604\, Deutschland
END:VEVENT
BEGIN:VEVENT
DTSTART;VALUE=DATE:20260705
DTEND;VALUE=DATE:20260706
DTSTAMP:20260423T134347
CREATED:20211217T103926Z
LAST-MODIFIED:20260107T085707Z
UID:14937-1783209600-1783295999@allmendingen.de
SUMMARY:Florianshockete
DESCRIPTION:
URL:https://allmendingen.de/event/florianshockete/
LOCATION:Bürgerhaus Altheim\, Schulstraße 10\, Altheim\, 89605\, Deutschland
END:VEVENT
BEGIN:VEVENT
DTSTART;TZID=Europe/Berlin:20260705T133000
DTEND;TZID=Europe/Berlin:20260705T180000
DTSTAMP:20260423T134347
CREATED:20220331T052628Z
LAST-MODIFIED:20260107T071539Z
UID:15831-1783258200-1783274400@allmendingen.de
SUMMARY:Heimatmuseum in Grötzingen
DESCRIPTION:Die Ausstellungen zeigen Historisches zu Haus\, Hof und Gewerbe und dem öffentlichen Leben auf den Lutherischen Bergen. Ein Schwerpunkt liegt in der Dauerausstellung zum Thema Mechanisierung der Landwirtschaft mit dem Motto „vom Haberrechen bis zum Mähdrescher“. Gezeigt werden auch Bilder\, Zeitdokumente\, Maschinen und Geräte vom späten 19. Jahrhundert bis etwa Mitte des 20. Jahrhunderts. \nZu den Öffnungszeiten bietet der Heimatverein auf der Terrasse auch Kaffee und Kuchen und Getränke an. \nGruppenführungen auf Anfrage – auch Führungen zu anderen Terminen – Anfragen richten Sie bitte auf der Kontaktseite der Webseite an den Bergemer Heimatverein.
URL:https://allmendingen.de/event/museum-lager-und-museum-gfriere-in-groetzingen-4/
LOCATION:Heimatmuseum\, Grießtalstraße 6\, Allmendingen\, 89604
ATTACH;FMTTYPE=image/jpeg:https://allmendingen.de/wp-content/uploads/2022/03/IMG_20210720_161137.jpg
END:VEVENT
BEGIN:VEVENT
DTSTART;TZID=Europe/Berlin:20260705T150000
DTEND;TZID=Europe/Berlin:20260705T163000
DTSTAMP:20260423T134347
CREATED:20250401T062705Z
LAST-MODIFIED:20260126T070731Z
UID:28135-1783263600-1783269000@allmendingen.de
SUMMARY:Café DaSein – Gesprächs-und Trauercafé
DESCRIPTION:Das „Café DaSein – Gesprächs-und Trauercafé“ findet in der Regel jeden \nersten Sonntag im Monat von 15:00 Uhr bis 16:30 Uhr \nim Forum50plus\, Jahnstr. 28 in 89155 Erbach statt. (Im UG der Musikschule) \nEingeladen sind alle\, die in Trauer sind\, egal welcher Konfession oder Gemeinde sie angehören. \nAuf Ihr Kommen freuen sich ehrenamtliche Trauerbegleiterinnen der Hospizgruppe Donau-Schmiechtal. Es ist keine vorherige Anmeldung erforderlich. Bei Fragen sind wir unter der Telefonnummer 0172 4218194 oder unter der Mailadresse Hospizgruppe.Donau-Schmiechtal@t-online.de für Sie erreichbar.
URL:https://allmendingen.de/event/cafe-dasein-gespraechs-und-trauercafe-4/
ATTACH;FMTTYPE=image/jpeg:https://allmendingen.de/wp-content/uploads/2021/03/Trauerfall-echt-scaled.jpg
ORGANIZER;CN="Hospizgruppe Donau-Schmiechtal":MAILTO:Hospizgruppe Donau-Schmiechtal@t-online.de
END:VEVENT
BEGIN:VEVENT
DTSTART;TZID=Europe/Berlin:20260711T093000
DTEND;TZID=Europe/Berlin:20260711T103000
DTSTAMP:20260423T134347
CREATED:20250714T071206Z
LAST-MODIFIED:20260126T073414Z
UID:28657-1783762200-1783765800@allmendingen.de
SUMMARY:„Spurwechsel“ – Spaziergang für Trauernde im Wandel der Jahreszeiten
DESCRIPTION:Die Hospizgruppe Donau-Schmiechtal lädt alle Trauernden und deren Wegbegleiter ganz herzlich ein zu einem gemeinsamen Spaziergang beim „Naherholungsgebiet Kehr-Brühlwiesen“ in Erbach. \nWir wollen ein Stück des Weges gemeinsam gehen und offen sein für die Natur\, den Wandel der Jahreszeiten und auch offen für den Wandel in uns\, in Zeiten der Trauer. \nIn Bewegung in der Natur\, bei Impulsen und in Gemeinschaft mit Anderen soll der Weg erfahrbar machen\, dass der Boden\, der durch einen Verlust als entzogen empfunden wird\, wieder begehbar und tragfähig werden kann. \nWann: Samstag\, 11.07.2026 um 09.30 Uhr \nTreffpunkt: Parkplatz am Spielplatz Brühlwiese in Erbach (unweit des Kinderhauses Brühlwiese und des Seniorenzentrums Erbach) \nDas Angebot findet bei jeder Witterung statt und es ist keine Anmeldung erforderlich. \nFragen hierzu beantworten wir Ihnen gerne unter der Rufnummer: 0172 4218194 und freuen uns auf Ihre Teilnahme. \n 
URL:https://allmendingen.de/event/spurwechsel-dem-leben-wieder-auf-die-spur-kommen-trauerspaziergang-im-wandel-der-jahreszeiten-2/
ATTACH;FMTTYPE=image/jpeg:https://allmendingen.de/wp-content/uploads/2025/05/Plakat-Trauerspaziergang-2026.jpg
ORGANIZER;CN="Hospizgruppe Donau-Schmiechtal":MAILTO:Hospizgruppe Donau-Schmiechtal@t-online.de
END:VEVENT
BEGIN:VEVENT
DTSTART;VALUE=DATE:20260712
DTEND;VALUE=DATE:20260713
DTSTAMP:20260423T134347
CREATED:20211217T104142Z
LAST-MODIFIED:20260107T085758Z
UID:14939-1783814400-1783900799@allmendingen.de
SUMMARY:Gebirgsausflug SAV OG Weilersteußlingen
DESCRIPTION:
URL:https://allmendingen.de/event/gebirgsausflug/
END:VEVENT
BEGIN:VEVENT
DTSTART;VALUE=DATE:20260718
DTEND;VALUE=DATE:20260719
DTSTAMP:20260423T134347
CREATED:20240117T065222Z
LAST-MODIFIED:20260331T052141Z
UID:22270-1784332800-1784419199@allmendingen.de
SUMMARY:Backtag in Altheim
DESCRIPTION:Für den Backtag bitte Vorbestellung 3 Tage vorher unter:\nbackhaus_backteam.altheim@aol.com oder WhatsApp/SMS an: 0175 64 59 812 \n  \nWeitere Informationen finden Sie unter  altheim-info.de/freizeittipps/einrichtungen/backhaus/\noder hier im Flyer: \n  \n 
URL:https://allmendingen.de/event/backtag-in-altheim/
LOCATION:Backhaus Altheim\, Hauptstraße 9\, Altheim\, 89605\, Deutschland
ATTACH;FMTTYPE=image/jpeg:https://allmendingen.de/wp-content/uploads/2023/05/Backhaus-Altheim-2021-scaled.jpg
ORGANIZER;CN="Backhaus-Team":MAILTO:backhaus_backteam.altheim@aol.com
END:VEVENT
BEGIN:VEVENT
DTSTART;VALUE=DATE:20260725
DTEND;VALUE=DATE:20260726
DTSTAMP:20260423T134347
CREATED:20260107T085921Z
LAST-MODIFIED:20260107T085921Z
UID:29735-1784937600-1785023999@allmendingen.de
SUMMARY:Kinder-Naturschutzprojekt
DESCRIPTION:
URL:https://allmendingen.de/event/kinder-naturschutzprojekt/
LOCATION:Kommunikationszentrum Farrenstall\, Grießtalstraße 40\, Allmendingen\, 89604\, Deutschland
END:VEVENT
BEGIN:VEVENT
DTSTART;VALUE=DATE:20260801
DTEND;VALUE=DATE:20260803
DTSTAMP:20260423T134347
CREATED:20211217T111137Z
LAST-MODIFIED:20260107T090534Z
UID:14959-1785542400-1785715199@allmendingen.de
SUMMARY:FiZ - Fest im Zentrum
DESCRIPTION:Unterhaltsames Rahmenprogramm und vielfältige Essensangebote an beiden Tagen\, Oldtimer-Ausstellung und Umzug am Sonntag
URL:https://allmendingen.de/event/fest-im-zentrum-fiz/
LOCATION:Rathausplatz Allmendingen\, Hauptstraße16\, Allmendingen\, 89604\, Deutschland
ATTACH;FMTTYPE=image/jpeg:https://allmendingen.de/wp-content/uploads/2021/03/fiz.jpg
ORGANIZER;CN="Gemeinde Allmendingen":MAILTO:info@allmendingen.de
END:VEVENT
BEGIN:VEVENT
DTSTART;VALUE=DATE:20260808
DTEND;VALUE=DATE:20260809
DTSTAMP:20260423T134347
CREATED:20211217T111529Z
LAST-MODIFIED:20260107T090638Z
UID:14964-1786147200-1786233599@allmendingen.de
SUMMARY:Fahrt ins Naturtheater
DESCRIPTION:
URL:https://allmendingen.de/event/14964/
END:VEVENT
BEGIN:VEVENT
DTSTART;TZID=Europe/Berlin:20260809T133000
DTEND;TZID=Europe/Berlin:20260809T180000
DTSTAMP:20260423T134347
CREATED:20220331T052756Z
LAST-MODIFIED:20260107T071626Z
UID:15834-1786282200-1786298400@allmendingen.de
SUMMARY:Heimatmuseum in Grötzingen
DESCRIPTION:Die Ausstellungen zeigen Historisches zu Haus\, Hof und Gewerbe und dem öffentlichen Leben auf den Lutherischen Bergen. Ein Schwerpunkt liegt in der Dauerausstellung zum Thema Mechanisierung der Landwirtschaft mit dem Motto „vom Haberrechen bis zum Mähdrescher“. Gezeigt werden auch Bilder\, Zeitdokumente\, Maschinen und Geräte vom späten 19. Jahrhundert bis etwa Mitte des 20. Jahrhunderts. \nZu den Öffnungszeiten bietet der Heimatverein auf der Terrasse auch Kaffee und Kuchen und Getränke an. \nGruppenführungen auf Anfrage – auch Führungen zu anderen Terminen – Anfragen richten Sie bitte auf der Kontaktseite der Webseite an den Bergemer Heimatverein.
URL:https://allmendingen.de/event/museum-lager-und-museum-gfriere-in-groetzingen-5/
LOCATION:Heimatmuseum\, Grießtalstraße 6\, Allmendingen\, 89604
ATTACH;FMTTYPE=image/jpeg:https://allmendingen.de/wp-content/uploads/2022/03/IMG_20210720_161203.jpg
END:VEVENT
BEGIN:VEVENT
DTSTART;VALUE=DATE:20260812
DTEND;VALUE=DATE:20260813
DTSTAMP:20260423T134347
CREATED:20260107T090926Z
LAST-MODIFIED:20260107T090926Z
UID:29741-1786492800-1786579199@allmendingen.de
SUMMARY:Köhlerplatte Münzdorf
DESCRIPTION:
URL:https://allmendingen.de/event/koehlerplatte-muenzdorf/
END:VEVENT
BEGIN:VEVENT
DTSTART;VALUE=DATE:20260814
DTEND;VALUE=DATE:20260817
DTSTAMP:20260423T134347
CREATED:20260107T091039Z
LAST-MODIFIED:20260107T091039Z
UID:29743-1786665600-1786924799@allmendingen.de
SUMMARY:Jugend-Zeltlager
DESCRIPTION:
URL:https://allmendingen.de/event/jugend-zeltlager/
END:VEVENT
BEGIN:VEVENT
DTSTART;VALUE=DATE:20260815
DTEND;VALUE=DATE:20260817
DTSTAMP:20260423T134347
CREATED:20211217T111722Z
LAST-MODIFIED:20260107T091134Z
UID:14968-1786752000-1786924799@allmendingen.de
SUMMARY:Göckelesfest
DESCRIPTION:
URL:https://allmendingen.de/event/goeckelesfest-2/
LOCATION:Festwiese beim Hasenstüble\, Ried 2\, Allmendingen\, 89604\, Deutschland
END:VEVENT
BEGIN:VEVENT
DTSTART;VALUE=DATE:20260819
DTEND;VALUE=DATE:20260820
DTSTAMP:20260423T134347
CREATED:20211217T111756Z
LAST-MODIFIED:20260107T091222Z
UID:14970-1787097600-1787183999@allmendingen.de
SUMMARY:Abendwanderung
DESCRIPTION:
URL:https://allmendingen.de/event/abendwanderung-2/
END:VEVENT
BEGIN:VEVENT
DTSTART;VALUE=DATE:20260906
DTEND;VALUE=DATE:20260907
DTSTAMP:20260423T134347
CREATED:20211220T133138Z
LAST-MODIFIED:20260107T090800Z
UID:15000-1788652800-1788739199@allmendingen.de
SUMMARY:Herbstausflug SAV OG Weilersteußlingen
DESCRIPTION:
URL:https://allmendingen.de/event/herbstausflug-sav-og-weilersteusslingen/
END:VEVENT
END:VCALENDAR